BEGIN:VCALENDAR
VERSION:2.0
PRODID:-//KHG Braunschweig - ECPv6.15.20//NONSGML v1.0//EN
CALSCALE:GREGORIAN
METHOD:PUBLISH
X-ORIGINAL-URL:https://www.khg-braunschweig.de
X-WR-CALDESC:Veranstaltungen für KHG Braunschweig
REFRESH-INTERVAL;VALUE=DURATION:PT1H
X-Robots-Tag:noindex
X-PUBLISHED-TTL:PT1H
BEGIN:VTIMEZONE
TZID:Europe/Berlin
BEGIN:DAYLIGHT
TZOFFSETFROM:+0100
TZOFFSETTO:+0200
TZNAME:CEST
DTSTART:20250330T010000
END:DAYLIGHT
BEGIN:STANDARD
TZOFFSETFROM:+0200
TZOFFSETTO:+0100
TZNAME:CET
DTSTART:20251026T010000
END:STANDARD
BEGIN:DAYLIGHT
TZOFFSETFROM:+0100
TZOFFSETTO:+0200
TZNAME:CEST
DTSTART:20260329T010000
END:DAYLIGHT
BEGIN:STANDARD
TZOFFSETFROM:+0200
TZOFFSETTO:+0100
TZNAME:CET
DTSTART:20261025T010000
END:STANDARD
BEGIN:DAYLIGHT
TZOFFSETFROM:+0100
TZOFFSETTO:+0200
TZNAME:CEST
DTSTART:20270328T010000
END:DAYLIGHT
BEGIN:STANDARD
TZOFFSETFROM:+0200
TZOFFSETTO:+0100
TZNAME:CET
DTSTART:20271031T010000
END:STANDARD
END:VTIMEZONE
BEGIN:VEVENT
DTSTART;TZID=Europe/Berlin:20260628T190000
DTEND;TZID=Europe/Berlin:20260628T213000
DTSTAMP:20260422T154257
CREATED:20260317T083218Z
LAST-MODIFIED:20260317T083218Z
UID:10002276-1782673200-1782682200@www.khg-braunschweig.de
SUMMARY:Wikingerschach
DESCRIPTION:Ort wird noch bekannt gegeben
URL:https://www.khg-braunschweig.de/termin/wikingerschach/
END:VEVENT
BEGIN:VEVENT
DTSTART;TZID=Europe/Berlin:20260701T190000
DTEND;TZID=Europe/Berlin:20260701T191500
DTSTAMP:20260422T154257
CREATED:20260317T085254Z
LAST-MODIFIED:20260317T085254Z
UID:10002290-1782932400-1782933300@www.khg-braunschweig.de
SUMMARY:MiA
DESCRIPTION:heißt Mittwochsandacht und findet als spiritueller Tagesabschluss statt.
URL:https://www.khg-braunschweig.de/termin/mia-8/2026-07-01/
LOCATION:Katholisches Hochschulzentrum KHG\, Schleinitzstr. 17\, Braunschweig\, 38106
END:VEVENT
BEGIN:VEVENT
DTSTART;TZID=Europe/Berlin:20260701T193000
DTEND;TZID=Europe/Berlin:20260701T213000
DTSTAMP:20260422T154257
CREATED:20260317T083339Z
LAST-MODIFIED:20260317T083339Z
UID:10002277-1782934200-1782941400@www.khg-braunschweig.de
SUMMARY:Planungstreffen für das Wintersemester 2026/27
DESCRIPTION:Wir suchen gemeinsam interessante Ideen für das nächste Semester.
URL:https://www.khg-braunschweig.de/termin/planungstreffen-fuer-das-wintersemester-2026-27/
LOCATION:Katholisches Hochschulzentrum KHG\, Schleinitzstr. 17\, Braunschweig\, 38106
END:VEVENT
BEGIN:VEVENT
DTSTART;TZID=Europe/Berlin:20260704T104500
DTEND;TZID=Europe/Berlin:20260704T190000
DTSTAMP:20260422T154257
CREATED:20260317T083642Z
LAST-MODIFIED:20260317T083752Z
UID:10002278-1783161900-1783191600@www.khg-braunschweig.de
SUMMARY:Kanutour auf der Oker
DESCRIPTION:Wir entdecken das grüne Braunschweig von der Oker aus.\nZwei Stunden Kanufahrt und anschließend chillen am Grinsekatz-Strand. \nAnmeldung bis 23.06.2026 bei Martina Welle.
URL:https://www.khg-braunschweig.de/termin/kanutour-auf-der-oker/
LOCATION:Grinsekatz-Strand\, Grinsekatz im Bürgerpark
END:VEVENT
BEGIN:VEVENT
DTSTART;TZID=Europe/Berlin:20260708T190000
DTEND;TZID=Europe/Berlin:20260708T191500
DTSTAMP:20260422T154257
CREATED:20260317T085254Z
LAST-MODIFIED:20260317T085254Z
UID:10002291-1783537200-1783538100@www.khg-braunschweig.de
SUMMARY:MiA
DESCRIPTION:heißt Mittwochsandacht und findet als spiritueller Tagesabschluss statt.
URL:https://www.khg-braunschweig.de/termin/mia-8/2026-07-08/
LOCATION:Katholisches Hochschulzentrum KHG\, Schleinitzstr. 17\, Braunschweig\, 38106
END:VEVENT
BEGIN:VEVENT
DTSTART;TZID=Europe/Berlin:20260708T193000
DTEND;TZID=Europe/Berlin:20260708T220000
DTSTAMP:20260422T154257
CREATED:20260317T084145Z
LAST-MODIFIED:20260317T084145Z
UID:10002280-1783539000-1783548000@www.khg-braunschweig.de
SUMMARY:TOP - Treffen ohne Plan
DESCRIPTION:
URL:https://www.khg-braunschweig.de/termin/top-treffen-ohne-plan-6/
LOCATION:Katholisches Hochschulzentrum KHG\, Schleinitzstr. 17\, Braunschweig\, 38106
END:VEVENT
BEGIN:VEVENT
DTSTART;TZID=Europe/Berlin:20260716T193000
DTEND;TZID=Europe/Berlin:20260716T203000
DTSTAMP:20260422T154257
CREATED:20260317T084251Z
LAST-MODIFIED:20260317T084251Z
UID:10002281-1784230200-1784233800@www.khg-braunschweig.de
SUMMARY:Ökumenischer Semesterabschlussgottesdienst
DESCRIPTION:
URL:https://www.khg-braunschweig.de/termin/oekumenischer-semesterabschlussgottesdienst-3/
LOCATION:Botanischer Garten\, Erweiterungsteil\, Braunschweig
END:VEVENT
END:VCALENDAR